BEGIN:VCALENDAR
VERSION:2.0
PRODID:-//Berkshire Regional Planning Commission - ECPv6.15.20//NONSGML v1.0//EN
CALSCALE:GREGORIAN
METHOD:PUBLISH
X-WR-CALNAME:Berkshire Regional Planning Commission
X-ORIGINAL-URL:https://berkshireplanning.org
X-WR-CALDESC:Events for Berkshire Regional Planning Commission
REFRESH-INTERVAL;VALUE=DURATION:PT1H
X-Robots-Tag:noindex
X-PUBLISHED-TTL:PT1H
BEGIN:VTIMEZONE
TZID:America/New_York
BEGIN:DAYLIGHT
TZOFFSETFROM:-0500
TZOFFSETTO:-0400
TZNAME:EDT
DTSTART:20250309T070000
END:DAYLIGHT
BEGIN:STANDARD
TZOFFSETFROM:-0400
TZOFFSETTO:-0500
TZNAME:EST
DTSTART:20251102T060000
END:STANDARD
BEGIN:DAYLIGHT
TZOFFSETFROM:-0500
TZOFFSETTO:-0400
TZNAME:EDT
DTSTART:20260308T070000
END:DAYLIGHT
BEGIN:STANDARD
TZOFFSETFROM:-0400
TZOFFSETTO:-0500
TZNAME:EST
DTSTART:20261101T060000
END:STANDARD
BEGIN:DAYLIGHT
TZOFFSETFROM:-0500
TZOFFSETTO:-0400
TZNAME:EDT
DTSTART:20270314T070000
END:DAYLIGHT
BEGIN:STANDARD
TZOFFSETFROM:-0400
TZOFFSETTO:-0500
TZNAME:EST
DTSTART:20271107T060000
END:STANDARD
END:VTIMEZONE
BEGIN:VEVENT
DTSTART;TZID=America/New_York:20260421T160000
DTEND;TZID=America/New_York:20260421T173000
DTSTAMP:20260421T082910
CREATED:20260414T202528Z
LAST-MODIFIED:20260417T194251Z
UID:10000420-1776787200-1776792600@berkshireplanning.org
SUMMARY:Berkshire Transportation Advisory Committee (TAC) Meeting
DESCRIPTION:Join Zoom Meeting: \nhttps://us02web.zoom.us/j/83773969702?pwd=vp0Gux08RXFSTroAza7l6rlFIOGAB7.1 \nMeeting ID: 837 7396 9702          Passcode: 822391 \nMeeting Materials: \n\nAgenda\nTAC March 10\, 2026 Meeting Minutes Draft\nBMPO FFY 2027-2031 Highway TIP\nBMPO FFY 2027-2031 Transit TIP\nBMPO FFY 2027-2031 TIP Schedule\nMassDOT District 1 TIP Projects Update\n\nPosted 4/14/2026\, 4:25 PM\, AK
URL:https://berkshireplanning.org/event/berkshire-transportation-advisory-committee-tac-meeting-3/
LOCATION:Virtual\, MA\, United States
CATEGORIES:Transportation Planning,Calendar of Events,Home Page
ORGANIZER;CN="Clete Kus":MAILTO:ckus@berkshireplanning.org
END:VEVENT
BEGIN:VEVENT
DTSTART;TZID=America/New_York:20260422T153000
DTEND;TZID=America/New_York:20260422T170000
DTSTAMP:20260421T082910
CREATED:20260417T185205Z
LAST-MODIFIED:20260417T185205Z
UID:10000421-1776871800-1776877200@berkshireplanning.org
SUMMARY:Regional Issues Committee Meeting
DESCRIPTION:There will be a meeting of the Regional Issues Committee on April 22nd\, 2026\, at 3:30 pm. This will be a virtual meeting as allowed by An Act Relative to Extending Certain COVID-19 Measures Adopted during the State of Emergency\, extending certain provisions of the Open Meeting Law\, G.L. c.30A sec.20 until June 30\, 2027. \nTo participate virtually\, join the Zoom Meeting: \nhttps://us02web.zoom.us/j/81568263601 \nMeeting ID: 815 6826 3601\nDial by location: 3017158592\, 305 224 1968\, 309 205 3325\, 646 931 3860 \nRegional Issues Committee Meeting Notice and Agenda \nposted 4/17/26 2:50pm cd
URL:https://berkshireplanning.org/event/regional-issues-committee-meeting-2/
CATEGORIES:Calendar of Events,Home Page
END:VEVENT
END:VCALENDAR