BEGIN:VCALENDAR
VERSION:2.0
PRODID:-//Berkshire Regional Planning Commission - ECPv6.15.20//NONSGML v1.0//EN
CALSCALE:GREGORIAN
METHOD:PUBLISH
X-ORIGINAL-URL:https://berkshireplanning.org
X-WR-CALDESC:Events for Berkshire Regional Planning Commission
REFRESH-INTERVAL;VALUE=DURATION:PT1H
X-Robots-Tag:noindex
X-PUBLISHED-TTL:PT1H
BEGIN:VTIMEZONE
TZID:America/New_York
BEGIN:DAYLIGHT
TZOFFSETFROM:-0500
TZOFFSETTO:-0400
TZNAME:EDT
DTSTART:20250309T070000
END:DAYLIGHT
BEGIN:STANDARD
TZOFFSETFROM:-0400
TZOFFSETTO:-0500
TZNAME:EST
DTSTART:20251102T060000
END:STANDARD
BEGIN:DAYLIGHT
TZOFFSETFROM:-0500
TZOFFSETTO:-0400
TZNAME:EDT
DTSTART:20260308T070000
END:DAYLIGHT
BEGIN:STANDARD
TZOFFSETFROM:-0400
TZOFFSETTO:-0500
TZNAME:EST
DTSTART:20261101T060000
END:STANDARD
BEGIN:DAYLIGHT
TZOFFSETFROM:-0500
TZOFFSETTO:-0400
TZNAME:EDT
DTSTART:20270314T070000
END:DAYLIGHT
BEGIN:STANDARD
TZOFFSETFROM:-0400
TZOFFSETTO:-0500
TZNAME:EST
DTSTART:20271107T060000
END:STANDARD
END:VTIMEZONE
BEGIN:VEVENT
DTSTART;TZID=America/New_York:20260428T160000
DTEND;TZID=America/New_York:20260428T180000
DTSTAMP:20260424T072140
CREATED:20260421T212123Z
LAST-MODIFIED:20260421T214235Z
UID:10000422-1777392000-1777399200@berkshireplanning.org
SUMMARY:Berkshire MPO Meeting
DESCRIPTION:Join Zoom Meeting: \nhttps://us02web.zoom.us/j/87266484776?pwd=qaTmQiN0UKxxrWEjLUDIuaiXCNvAhl.1 \nMeeting ID: 872 6648 4776       Passcode: 759571 \nMeeting Materials: \n\nAgenda\nBMPO March 31\, 2026 Meeting Minutes Draft\nBMPO FFY 2026-2030 Highway TIP 3rd Amendment\nBMPO FFY 2027-2031 Highway TIP\nBMPO FFY 2027-2031 Transit TIP\nBMPO FFY 2027-2031 TIP Schedule\nMassDOT 2026 Transit Grants – Awards\n\nPosted: 4/21/2026\, 5:20 PM\, AK
URL:https://berkshireplanning.org/event/berkshire-mpo-meeting-4/
LOCATION:Virtual\, MA\, United States
CATEGORIES:Transportation Planning,Calendar of Events,Home Page
ORGANIZER;CN="Clete Kus":MAILTO:ckus@berkshireplanning.org
END:VEVENT
BEGIN:VEVENT
DTSTART;TZID=America/New_York:20260429T160000
DTEND;TZID=America/New_York:20260429T170000
DTSTAMP:20260424T072140
CREATED:20260319T132201Z
LAST-MODIFIED:20260423T192808Z
UID:10000416-1777478400-1777482000@berkshireplanning.org
SUMMARY:BRPC Finance Committee Meeting
DESCRIPTION:There will be a meeting of the BRPC Finance Committee on April 29th\, 2026\, at 4 pm. This will be a virtual meeting as allowed by An Act Relative to Extending Certain COVID-19 Measures Adopted during the State of Emergency\, extending certain provisions of the Open Meeting Law\, G.L. c.30A sec.20 until June 30\, 2027. \nTo participate virtually\, join the Zoom Meeting: \nhttps://us02web.zoom.us/meeting/register/cil51_R4ScaJXKRF2aJpYg  \nMeeting ID: 826 1257 5291\nDial by location: 3092053325\, 81305315992\, 3126266799 \nFinance Committee Meeting Notice\, Agenda and Meeting Materials \nposted 4/23/26 3:30pm cd
URL:https://berkshireplanning.org/event/brpc-finance-committee-meeting/
LOCATION:MA
CATEGORIES:Calendar of Events,Home Page
END:VEVENT
BEGIN:VEVENT
DTSTART;TZID=America/New_York:20260430T160000
DTEND;TZID=America/New_York:20260430T183000
DTSTAMP:20260424T072140
CREATED:20260312T164154Z
LAST-MODIFIED:20260409T131922Z
UID:10000412-1777564800-1777573800@berkshireplanning.org
SUMMARY:5th Thursday Networking & Educational Event
DESCRIPTION:On Thursday\, April 30th\, BRPC will host an in-person 5th Thursday networking and learning event with guest presenter Rick Collins\, Director of the Siting and Permitting Division of DOER. Mr. Collins will review recent energy siting and permitting regulations and what they mean for municipalities. Attendees are encouraged to submit questions in advance for the subsequent Q&A. \nNetworking begins at 4 pm\, with appetizers and a cash bar\, followed by the presentation beginning shortly after 5 pm. \nTickets must be reserved no later than Thursday\, April 23rd. Visit our Eventbrite page to purchase tickets.
URL:https://berkshireplanning.org/event/5th-thursday-networking-educational-event/
LOCATION:The Venue at Skyline\, 405 South Main Street\, Lanesborough\, MA\, 01237\, United States
CATEGORIES:Administration,Calendar of Events,Home Page
END:VEVENT
END:VCALENDAR